BEGIN:VCALENDAR
METHOD:PUBLISH
PRODID:-//Moodle Pty Ltd//NONSGML Moodle Version 2021051700//EN
VERSION:2.0
BEGIN:VEVENT
UID:15@lms.bou.education
SUMMARY:Test Meetting
DTSTAMP:20260425T164630Z
LAST-MODIFIED:20230117T083107Z
DTSTART:20230123T025000Z
DTEND:20230123T035000Z
DESCRIPTION:Meeting join URL: https://lms.bou.education/mod/zoom/view.php?i
	d=79.\nDescription:\nTest Meetting\n\n
	
END:VEVENT
END:VCALENDAR
